BEGIN:VCALENDAR
VERSION:2.0
PRODID:-//wp-events-plugin.com//7.2.3.1//EN
TZID:America/Los_Angeles
X-WR-TIMEZONE:America/Los_AngelesBEGIN:VCALENDAR
VERSION:2.0
PRODID:-//wp-events-plugin.com//7.2.3.1//EN
TZID:America/Los_Angeles
X-WR-TIMEZONE:America/Los_Angeles
BEGIN:VEVENT
UID:242@troop325.com
DTSTART;TZID=America/Los_Angeles:20200205T173000
DTEND;TZID=America/Los_Angeles:20200205T220000
DTSTAMP:20200122T195425Z
URL:https://www.troop325.com/events/pinewood-derby-checkin/
SUMMARY:Pinewood Derby Checkin
DESCRIPTION:Ladies and Gentlemen\, I need your help.  I need to staff the 
 Pinewood Derby Checkin and Derby.\n\nThe checkin will start at 5:30 and ru
 n to 10:00pm.\n\nItinerary\n\n 	5:30-6:30 Setup\n 	6:30-9:00 Two Line chec
 kin\n 	9:00-9:30 Shutdown Lion/Tiger Checkin line and start cleanup\n 	9:3
 0-10:00 Final cleanup.\n\nI need the following checkin stations\n\n 	Forms
  (1)\n\n 	Greet the parents and cubscouts.  Assist them in getting the co
 rrect form\, and getting in the correct line\n\n\n 	Wheels (2)\n\n 	Inspec
 t the wheels for\n\n 	All 4 wheels touch\n 	No modifications to the wheels
 \n 	Wheel Base is not altered\n 	Wheels are based greater than 1.75" side 
 to side\n\n\n\n\n 	Dimensions (2)\n\n 	Inspect the car to ensure that it i
 s no longer than 7" no taller than 3"\, no wider than 3" and the wheels a\
 n\n\n 	Weight (2)\n\n 	Verify that the car is not over the 5.00 ounce lim
 it\n\n\n 	Form Entry (2)\n\n 	Enter the form information into a computer\
 n\n\n 	Treasury Assistant (1)\n\n 	Assist with taking payments\n\n\n\nThis
  event will count for service hours.  Snacks and drinks will be provided.
 \n\nEven if you can't stay the whole time your assistance will be apprecia
 ted.\n\n&nbsp\;
LOCATION:Muslim Community Association\, 3003 Scott Blvd\, Santa Clara\, CA\
 , 95054\, United States
GEO:37.3770953;-121.959451
X-APPLE-STRUCTURED-LOCATION;VALUE=URI;X-ADDRESS=3003 Scott Blvd\, Santa Cla
 ra\, CA\, 95054\, United States;X-APPLE-RADIUS=100;X-TITLE=Muslim Communit
 y Association:geo:37.3770953,-121.959451
END:VEVENT
BEGIN:VTIMEZONE
TZID:America/Los_Angeles
X-LIC-LOCATION:America/Los_Angeles
BEGIN:STANDARD
DTSTART:20191103T010000
TZOFFSETFROM:-0700
TZOFFSETTO:-0800
TZNAME:PST
END:STANDARD
END:VTIMEZONE
END:VCALENDAR