BEGIN:VCALENDAR
VERSION:2.0
PRODID:-//wp-events-plugin.com//7.2.3.1//EN
TZID:America/Los_Angeles
X-WR-TIMEZONE:America/Los_AngelesBEGIN:VCALENDAR
VERSION:2.0
PRODID:-//wp-events-plugin.com//7.2.3.1//EN
TZID:America/Los_Angeles
X-WR-TIMEZONE:America/Los_Angeles
BEGIN:VEVENT
UID:243@troop325.com
DTSTART;TZID=America/Los_Angeles:20200207T220000
DTEND;TZID=America/Los_Angeles:20200207T234500
DTSTAMP:20200122T195943Z
URL:https://www.troop325.com/events/pinewood-derby-setup/
SUMMARY:Pinewood Derby Setup
DESCRIPTION:Friday night Setup for Saturdays race.\n\n 	Setup the track\n 	
 Setup and test timer controls\n 	Place chairs\n 	Decorate\n 	Setup photo s
 tations\n 	Setup Pit Row\n 	Setup Trophy tables and Trophy\n 	Setup and pr
 actice Flag Ceremony.\n\nService hours apply.\n\nRides home will be made a
 vailable
LOCATION:Muslim Community Association\, 3003 Scott Blvd\, Santa Clara\, CA\
 , 95054\, United States
GEO:37.3770953;-121.959451
X-APPLE-STRUCTURED-LOCATION;VALUE=URI;X-ADDRESS=3003 Scott Blvd\, Santa Cla
 ra\, CA\, 95054\, United States;X-APPLE-RADIUS=100;X-TITLE=Muslim Communit
 y Association:geo:37.3770953,-121.959451
END:VEVENT
BEGIN:VTIMEZONE
TZID:America/Los_Angeles
X-LIC-LOCATION:America/Los_Angeles
BEGIN:STANDARD
DTSTART:20191103T010000
TZOFFSETFROM:-0700
TZOFFSETTO:-0800
TZNAME:PST
END:STANDARD
END:VTIMEZONE
END:VCALENDAR