BEGIN:VCALENDAR
VERSION:2.0
PRODID:-//wp-events-plugin.com//7.2.3.1//EN
TZID:America/Los_Angeles
X-WR-TIMEZONE:America/Los_AngelesBEGIN:VCALENDAR
VERSION:2.0
PRODID:-//wp-events-plugin.com//7.2.3.1//EN
TZID:America/Los_Angeles
X-WR-TIMEZONE:America/Los_AngelesBEGIN:VCALENDAR
VERSION:2.0
PRODID:-//wp-events-plugin.com//7.2.3.1//EN
TZID:America/Los_Angeles
X-WR-TIMEZONE:America/Los_Angeles
BEGIN:VEVENT
UID:280@troop325.com
DTSTART;TZID=America/Los_Angeles:20210213T090000
DTEND;TZID=America/Los_Angeles:20210213T120000
DTSTAMP:20210201T163007Z
URL:https://www.troop325.com/events/prince-of-peace-service-event/
SUMMARY:Prince of Peace Service Event
DESCRIPTION:This is a good opportunity to help the Prince of Peace\, which 
 we use to host meetings. Work will mostly consist of landscaping and other
  maintenance related tasks. Once you arrive\, make sure that you sign in t
 o be assigned your task\, and sign out when you leave. Bring work gloves\,
  water\, and hand sanitizer. Masks are required.\n\nPlease sign up by Feb 
 6th on the website so I can get a good idea on how many scouts will attend
 .
CATEGORIES:Community Service,Volunteering
LOCATION:Prince of Peace Church\, 12770 Saratoga Ave\, Saratoga\, CA\, 9507
 0\, United States
GEO:37.28137;-122.00179300000002
X-APPLE-STRUCTURED-LOCATION;VALUE=URI;X-ADDRESS=12770 Saratoga Ave\, Sarato
 ga\, CA\, 95070\, United States;X-APPLE-RADIUS=100;X-TITLE=Prince of Peace
  Church:geo:37.28137,-122.00179300000002
END:VEVENT
BEGIN:VTIMEZONE
TZID:America/Los_Angeles
X-LIC-LOCATION:America/Los_Angeles
BEGIN:STANDARD
DTSTART:20201101T010000
TZOFFSETFROM:-0700
TZOFFSETTO:-0800
TZNAME:PST
END:STANDARD
END:VTIMEZONE
END:VCALENDAR